BEGIN:VCALENDAR
VERSION:2.0
PRODID:gruene-kaufbeuren.de
METHOD:PUBLISH
BEGIN:VTIMEZONE
TZID:Europe/Berlin
X-LIC-LOCATION:Europe/Berlin
BEGIN:DAYLIGHT
TZOFFSETFROM:+0100
TZOFFSETTO:+0200
TZNAME:CEST
DTSTART:19700329T020000
RRULE:FREQ=YEARLY;INTERVAL=1;BYDAY=-1SU;BYMONTH=3
END:DAYLIGHT
BEGIN:STANDARD
TZOFFSETFROM:+0200
TZOFFSETTO:+0100
TZNAME:CET
DTSTART:19701025T030000
RRULE:FREQ=YEARLY;INTERVAL=1;BYDAY=-1SU;BYMONTH=10
END:STANDARD
END:VTIMEZONE
BEGIN:VEVENT
UID:5929a971d8f8c02ca713bb0e0073ad57@gruene-kaufbeuren.de
URL;VALUE=URI:https://gruene-kaufbeuren.de/termine/primafuersklima-stadtr
 adeln-2023/
LOCATION:auf der ganzen Welt,, wo es mir gefällt
SUMMARY:#PrimafürsKlima – Stadtradeln 2023
DESCRIPTION;ALTREP="data:text/html,%0A%3Cp%3EAls%20Team%20%23Primaf%C3%BC
 rKlima%20radel%20wir%20auch%20heuer%20wieder%20beim%20Stadtradeln%20mit.%
 3Cbr%20%2F%3EIn%20der%20Zeit%20vom%20%2019.06.%20-%20zum%20%2009.07.2023.
 %20Dann%20werden%20die%20geradelten%20Kilometer%20gez%C3%A4hlt.%3Cbr%20%2
 F%3EHoffen%20wir%2C%20dass%20wir%20unser%20Ergebnis%20vom%20letzten%20Jah
 r%20mit%203701%20km%20und%20569%2C9%20kgCO%C2%B2%20%3Cbr%20%2F%3Enoch%20t
 oppen%20k%C3%B6nnen.%3C%2Fp%3E%0A%0A%0A%0A%3Cp%3ESehen%20lassen%20konnte%
 20sich%20auch%20der%20Anteil%20der%20Stadtr%C3%A4t%2Ainnen%20die%20beim%2
 0Team%20%23Primaf%C3%BCrsKlima%20mit%3Cbr%20%2F%3Egeradelt%20sind.%20Eins
 chlie%C3%9Flich%20B%C3%BCrgermeister%20Oliver%20Schill.%3C%2Fp%3E%0A%0A%0
 A%0A%3Cp%3E%3C%2Fp%3E%0A":Als Team #PrimafürKlima radel wir auch heuer w
 ieder beim Stadtradeln mit.In der Zeit vom  19.06. - zum  09.07.2023. Dan
 n werden die geradelten Kilometer gezählt.Hoffen wir\, dass wir unser Er
 gebnis vom letzten Jahr mit 3701 km und 569\,9 kgCO² noch toppen können
 .\n\nSehen lassen konnte sich auch der Anteil der Stadträt*innen die bei
 m Team #PrimafürsKlima mitgeradelt sind. Einschließlich Bürgermeister 
 Oliver Schill.
CLASS:PUBLIC
DTSTART;TZID=Europe/Berlin:20230619T000000
DTEND;TZID=Europe/Berlin:20230609T000000
DTSTAMP:20260421T094432
END:VEVENT
END:VCALENDAR