BEGIN:VCALENDAR
VERSION:2.0
PRODID:gruene-kaufbeuren.de
METHOD:PUBLISH
BEGIN:VTIMEZONE
TZID:Europe/Berlin
X-LIC-LOCATION:Europe/Berlin
BEGIN:DAYLIGHT
TZOFFSETFROM:+0100
TZOFFSETTO:+0200
TZNAME:CEST
DTSTART:19700329T020000
RRULE:FREQ=YEARLY;INTERVAL=1;BYDAY=-1SU;BYMONTH=3
END:DAYLIGHT
BEGIN:STANDARD
TZOFFSETFROM:+0200
TZOFFSETTO:+0100
TZNAME:CET
DTSTART:19701025T030000
RRULE:FREQ=YEARLY;INTERVAL=1;BYDAY=-1SU;BYMONTH=10
END:STANDARD
END:VTIMEZONE
BEGIN:VEVENT
UID:a18b55b9fc6949c2c1a1d6074460c990@gruene-kaufbeuren.de
URL;VALUE=URI:https://gruene-kaufbeuren.de/termine/primafuersklima-stadtr
 adeln-2021-wir-radlen-mit-du-auch/
LOCATION:Kaufbeuren
SUMMARY:#PRIMAfürsKLIMA – Stadtradeln 2021 – Wir radlen mit! Du auch
 ?
DESCRIPTION;ALTREP="data:text/html,Wir%20laden%20Freunde%2C%20Bekannte%2C
 %20Familien%2C%20Kinder%20und%20Jugendliche%2C%20sowie%20Sport-%20und%20A
 lltagsradler%20ein%2C%20gemeinsam%20mit%20dem%20Team%20%23PRIMAf%C3%BCrsK
 LIMA%20viele%20Radkilometer%20zu%20sammeln.%20Alle%20k%C3%B6nnen%20bei%20
 unserem%20Team%20%23PRIMAf%C3%BCrsKLIMA%20wieder%20mit%20radeln%20und%20m
 %C3%B6glichst%20viele%20Radkilometer%20sammeln.%20Verst%C3%A4rkt%20wird%2
 0das%20Team%20durch%20unsere%20Kaufbeurer%20Stadtr%C3%A4te.%20Meldet%20eu
 ch%20jetzt%20schon%20unter%20%3Ca%20href%3D%22https%3A%2F%2Fwww.stadtrade
 ln.de%2Fkaufbeuren%22%3Ewww.stadtradeln.de%2Fkaufbeuren%3C%2Fa%3E%20f%C3%
 BCr%20unser%20Team%20%23PRIMAf%C3%BCrsKLIMA%20an.":Wir laden Freunde\, Be
 kannte\, Familien\, Kinder und Jugendliche\, sowie Sport- und Alltagsradl
 er ein\, gemeinsam mit dem Team #PRIMAfürsKLIMA viele Radkilometer zu sa
 mmeln. Alle können bei unserem Team #PRIMAfürsKLIMA wieder mit radeln u
 nd möglichst viele Radkilometer sammeln. Verstärkt wird das Team durch 
 unsere Kaufbeurer Stadträte. Meldet euch jetzt schon unter www.stadtrade
 ln.de/kaufbeuren für unser Team #PRIMAfürsKLIMA an.
CLASS:PUBLIC
DTSTART;TZID=Europe/Berlin:20210626T000000
DTEND;TZID=Europe/Berlin:20210711T230000
DTSTAMP:20260422T094903
END:VEVENT
END:VCALENDAR