BEGIN:VCALENDAR
VERSION:2.0
PRODID:gruene-kaufbeuren.de
METHOD:PUBLISH
BEGIN:VTIMEZONE
TZID:Europe/Berlin
X-LIC-LOCATION:Europe/Berlin
BEGIN:DAYLIGHT
TZOFFSETFROM:+0100
TZOFFSETTO:+0200
TZNAME:CEST
DTSTART:19700329T020000
RRULE:FREQ=YEARLY;INTERVAL=1;BYDAY=-1SU;BYMONTH=3
END:DAYLIGHT
BEGIN:STANDARD
TZOFFSETFROM:+0200
TZOFFSETTO:+0100
TZNAME:CET
DTSTART:19701025T030000
RRULE:FREQ=YEARLY;INTERVAL=1;BYDAY=-1SU;BYMONTH=10
END:STANDARD
END:VTIMEZONE
BEGIN:VEVENT
UID:da69d79d41d2723bf28f007f1232ef57@gruene-kaufbeuren.de
URL;VALUE=URI:https://gruene-kaufbeuren.de/termine/neujahrsempfang-mit-fr
 anziska-brantner/
LOCATION:Kolping Akademie, Adolph-Kolping-Str. 2, 87600 Kaufbeuren
SUMMARY:Neujahrsempfang mit Franziska Brantner – wir starten gemeinsam 
 ins neue Jahr!
DESCRIPTION;ALTREP="data:text/html,%0A%3Cp%3EAm%20%3Cstrong%3E1.%20Februa
 r%20ab%2012%20Uhr%3C%2Fstrong%3E%20laden%20wir%20dich%20herzlich%20zu%20u
 nserem%20Neujahrsempfang%20in%20die%20%3Cstrong%3E%3Ca%20href%3D%22https%
 3A%2F%2Fwww.die-kolping-akademie.de%2Fueber-uns%2Fstandorte%2Fkaufbeuren%
 2F%22%3EKolpingakademie%20Kaufbeuren%3C%2Fa%3E%3C%2Fstrong%3E%20ein.%20Mi
 t%20dabei%20sind%20%3Ca%20href%3D%22https%3A%2F%2Ffranziska-brantner.de%2
 F%22%3E%3Cstrong%3EFranziska%20Brantner%3C%2Fstrong%3E%20%3C%2Fa%3EMdB%20
 sowie%20unser%20B%C3%BCrgermeisterkandidat%20%3Cstrong%3EOliver%20Schill%
 3C%2Fstrong%3E.%20Freu%20dich%20auf%20spannende%20Impulse%2C%20gute%20Ges
 pr%C3%A4che%20und%20die%20M%C3%B6glichkeit%2C%20dich%20mit%20uns%20zu%20v
 ernetzen.%3C%2Fp%3E%0A%0A%0A%0A%3Cp%3E%3C%2Fp%3E%0A":Am 1. Februar ab 12 
 Uhr laden wir dich herzlich zu unserem Neujahrsempfang in die Kolpingakad
 emie Kaufbeuren ein. Mit dabei sind Franziska Brantner MdB sowie unser B
 ürgermeisterkandidat Oliver Schill. Freu dich auf spannende Impulse\, gu
 te Gespräche und die Möglichkeit\, dich mit uns zu vernetzen.
CLASS:PUBLIC
DTSTART;TZID=Europe/Berlin:20260201T120000
DTEND;TZID=Europe/Berlin:20260201T140000
DTSTAMP:20260421T095428
END:VEVENT
END:VCALENDAR