BEGIN:VCALENDAR
VERSION:2.0
PRODID:gruene-kaufbeuren.de
METHOD:PUBLISH
BEGIN:VTIMEZONE
TZID:Europe/Berlin
X-LIC-LOCATION:Europe/Berlin
BEGIN:DAYLIGHT
TZOFFSETFROM:+0100
TZOFFSETTO:+0200
TZNAME:CEST
DTSTART:19700329T020000
RRULE:FREQ=YEARLY;INTERVAL=1;BYDAY=-1SU;BYMONTH=3
END:DAYLIGHT
BEGIN:STANDARD
TZOFFSETFROM:+0200
TZOFFSETTO:+0100
TZNAME:CET
DTSTART:19701025T030000
RRULE:FREQ=YEARLY;INTERVAL=1;BYDAY=-1SU;BYMONTH=10
END:STANDARD
END:VTIMEZONE
BEGIN:VEVENT
UID:5879697855d272a02ceb7c354d3d8864@gruene-kaufbeuren.de
URL;VALUE=URI:https://gruene-kaufbeuren.de/termine/lasst-uns-diskutieren-
 ein-abend-fuer-die-demokratie/
LOCATION:Kolping Akademie Kaufbeuren, Adolph-Kolping-Straße 2 a, 87600 K
 aufbeuren
SUMMARY:Lasst uns diskutieren! Ein Abend für die Demokratie!
DESCRIPTION;ALTREP="data:text/html,%0A%3Cp%3EAm%208.%20Oktober%20ist%20La
 ndtagswahl.%20Kommt%20zu%20einer%20besonderen%20%C3%B6ffentlichen%20Wahlv
 eranstaltung.%20Sozialverb%C3%A4nde%20und%20Interessensgruppen%20laden%20
 W%C3%A4hlerinnen%20und%20W%C3%A4hler%20ein%20sich%20zu%20informieren.%3Cb
 r%20%2F%3E%3Cstrong%3EDienstag%2C%205.%20September%202023%2C%2019%3A00%20
 Uhr%2C%20Kolping%20Akademie%2C%20Kaufbeuren%3C%2Fstrong%3E%3C%2Fp%3E%0A%0
 A%0A%0A%3Cp%3EKandidatinnen%20und%20Kandidaten%20erhalten%20im%20Vorfeld%
 20einer%20Wahlveranstaltung%20Fragen%2C%20die%20dann%20zur%20Diskussion%2
 0gestellt%20werden.%20Zudem%20stellen%20die%20Kandidierenden%2C%20sich%20
 selbst%20und%20ihre%20politischen%20Ziele%20und%20Sachthemen%20vor.%3C%2F
 p%3E%0A%0A%0A%0A%3Cp%3EAn%20diesem%20Abend%20geht%20es%20um%20grunds%C3%A
 4tzliche%20Fragen%2C%20die%20demokratische%20Prozesse%20beleuchten%2C%20j
 a%20unsere%20Demokratie%20insgesamt%20mit%20ihren%20gro%C3%9Fen%20Werten%
 20in%20den%20Mittelpunkt%20zu%20stellen.%3C%2Fp%3E%0A%0A%0A%0A%3Cp%3EWie%
 20steht%20es%20um%20die%20Demokratiezufriedenheit%20der%20B%C3%BCrger%3F%
 3C%2Fp%3E%0A%0A%0A%0A%3Cp%3EWelche%20ehrenamtlichen%20Strukturen%20k%C3%B
 6nnen%20dem%20demokratischen%20Zusammenleben%20dienen%3F%3C%2Fp%3E%0A%0A%
 0A%0A%3Cp%3EHilft%20ein%20Gesetz%20zur%20St%C3%A4rkung%20der%20Demokratie
 %3F%3C%2Fp%3E%0A%0A%0A%0A%3Cp%3EWirken%20B%C3%BCrgerbeteiligung%20und%20V
 olksentscheide%20nachhaltig%3F%3C%2Fp%3E%0A%0A%0A%0A%3Cp%3EWas%20hilft%20
 gegen%20die%20Spaltung%20der%20Gesellschaft%3F%3C%2Fp%3E%0A%0A%0A%0A%3Cp%
 3EWissen%20wir%20als%20Gesellschaft%20noch%20vom%20Wert%20der%20Demokrati
 e%3F%3C%2Fp%3E%0A%0A%0A%0A%3Cp%3EDie%20Kandidierenden%20haben%20sich%20im
 %20Vorfeld%20%C3%BCber%20die%20Ziele%20der%20Veranstaltung%20ausgetauscht
 .%20Die%20Parteizugeh%C3%B6rigkeit%20steht%20nicht%20an%20erster%20Stelle
 .%3C%2Fp%3E%0A%0A%0A%0A%3Cp%3E%3Cstrong%3EIhre%20Direktkandidat%2Ainnen%2
 0f%C3%BCr%20den%20Landtag%20im%20Stimmkreis%20708%20%2F%20Kaufbeuren%3C%2
 Fstrong%3E%3C%2Fp%3E%0A%0A%0A%0A%3Cp%3E%3Cstrong%3EHolger%20Jankovsky%20%
 E2%80%93%20Bernhard%20Pohl%20%E2%80%93%20Susanne%20Sorgenfrei%20%E2%80%93
 %3C%2Fstrong%3E%3C%2Fp%3E%0A%0A%0A%0A%3Cp%3E%3Cstrong%3EChristian%20Toth%
 20%E2%80%93%20Peter%20Wachler%3C%2Fstrong%3E%3C%2Fp%3E%0A%0A%0A%0A%3Cp%3E
 Moderation%3A%20Kilian%20Herbschleb%3C%2Fp%3E%0A":Am 8. Oktober ist Landt
 agswahl. Kommt zu einer besonderen öffentlichen Wahlveranstaltung. Sozia
 lverbände und Interessensgruppen laden Wählerinnen und Wähler ein sich
  zu informieren.Dienstag\, 5. September 2023\, 19:00 Uhr\, Kolping Akadem
 ie\, Kaufbeuren\n\nKandidatinnen und Kandidaten erhalten im Vorfeld einer
  Wahlveranstaltung Fragen\, die dann zur Diskussion gestellt werden. Zude
 m stellen die Kandidierenden\, sich selbst und ihre politischen Ziele und
  Sachthemen vor.\n\nAn diesem Abend geht es um grundsätzliche Fragen\, d
 ie demokratische Prozesse beleuchten\, ja unsere Demokratie insgesamt mit
  ihren großen Werten in den Mittelpunkt zu stellen.\n\nWie steht es um d
 ie Demokratiezufriedenheit der Bürger?\n\nWelche ehrenamtlichen Struktur
 en können dem demokratischen Zusammenleben dienen?\n\nHilft ein Gesetz z
 ur Stärkung der Demokratie?\n\nWirken Bürgerbeteiligung und Volksentsch
 eide nachhaltig?\n\nWas hilft gegen die Spaltung der Gesellschaft?\n\nWis
 sen wir als Gesellschaft noch vom Wert der Demokratie?\n\nDie Kandidieren
 den haben sich im Vorfeld über die Ziele der Veranstaltung ausgetauscht.
  Die Parteizugehörigkeit steht nicht an erster Stelle.\n\nIhre Direktkan
 didat*innen für den Landtag im Stimmkreis 708 / Kaufbeuren\n\nHolger Jan
 kovsky – Bernhard Pohl – Susanne Sorgenfrei –\n\nChristian Toth –
  Peter Wachler\n\nModeration: Kilian Herbschleb
CLASS:PUBLIC
DTSTART;TZID=Europe/Berlin:20230905T190000
DTEND;TZID=Europe/Berlin:20230905T220000
DTSTAMP:20260421T094541
END:VEVENT
END:VCALENDAR