BEGIN:VCALENDAR
VERSION:2.0
PRODID:gruene-kaufbeuren.de
METHOD:PUBLISH
BEGIN:VTIMEZONE
TZID:Europe/Berlin
X-LIC-LOCATION:Europe/Berlin
BEGIN:DAYLIGHT
TZOFFSETFROM:+0100
TZOFFSETTO:+0200
TZNAME:CEST
DTSTART:19700329T020000
RRULE:FREQ=YEARLY;INTERVAL=1;BYDAY=-1SU;BYMONTH=3
END:DAYLIGHT
BEGIN:STANDARD
TZOFFSETFROM:+0200
TZOFFSETTO:+0100
TZNAME:CET
DTSTART:19701025T030000
RRULE:FREQ=YEARLY;INTERVAL=1;BYDAY=-1SU;BYMONTH=10
END:STANDARD
END:VTIMEZONE
BEGIN:VEVENT
UID:5e51f8e8d9830eba78597fd63b36a23d@gruene-kaufbeuren.de
URL;VALUE=URI:https://gruene-kaufbeuren.de/termine/kaufbeurer-ideenbox-gg
 b-buron-center/
LOCATION:Josef-Landes-Str. 21, Kaufbeuren
SUMMARY:Kaufbeurer Ideenbox ggb. Buron-Center
DESCRIPTION;ALTREP="data:text/html,Die%20Kaufbeurer%20Ideenbox%20steht%20
 am%20Donnerstag%2C%2027.02.%20gegen%C3%BCber%20vom%20Buron-Center%20%28vo
 r%20Amplifon%20H%C3%B6rger%C3%A4te%29%20bereit%20f%C3%BCr%20Eure%20Ideen.
 %20Kommt%20vorbei%20und%20macht%20mit%3A%20Gemeinsam%20gestalten%20wir%20
 Kaufbeuren%21%0D%0A%0D%0AWeitere%20Informationen%2C%20wer%20alles%20dort%
 20anzutreffen%20ist%2C%20und%20weitere%20%3Ca%20href%3D%22https%3A%2F%2Fg
 ruene-kaufbeuren.de%2Fkaufbeurer-ideenbox-on-tour%2F%22%3ETermine%20der%2
 0Kaufbeurer%20Ideenbox%20findest%20Du%20hier%3C%2Fa%3E.":Die Kaufbeurer I
 deenbox steht am Donnerstag\, 27.02. gegenüber vom Buron-Center (vor Amp
 lifon Hörgeräte) bereit für Eure Ideen. Kommt vorbei und macht mit: Ge
 meinsam gestalten wir Kaufbeuren!\n\nWeitere Informationen\, wer alles do
 rt anzutreffen ist\, und weitere Termine der Kaufbeurer Ideenbox findest 
 Du hier.
CLASS:PUBLIC
DTSTART;TZID=Europe/Berlin:20200227T090000
DTEND;TZID=Europe/Berlin:20200227T130000
DTSTAMP:20260421T093811
END:VEVENT
END:VCALENDAR