BEGIN:VCALENDAR
VERSION:2.0
PRODID:gruene-kaufbeuren.de
METHOD:PUBLISH
BEGIN:VTIMEZONE
TZID:Europe/Berlin
X-LIC-LOCATION:Europe/Berlin
BEGIN:DAYLIGHT
TZOFFSETFROM:+0100
TZOFFSETTO:+0200
TZNAME:CEST
DTSTART:19700329T020000
RRULE:FREQ=YEARLY;INTERVAL=1;BYDAY=-1SU;BYMONTH=3
END:DAYLIGHT
BEGIN:STANDARD
TZOFFSETFROM:+0200
TZOFFSETTO:+0100
TZNAME:CET
DTSTART:19701025T030000
RRULE:FREQ=YEARLY;INTERVAL=1;BYDAY=-1SU;BYMONTH=10
END:STANDARD
END:VTIMEZONE
BEGIN:VEVENT
UID:30d08da56f2831b86dbb5b385050f7b7@gruene-kaufbeuren.de
URL;VALUE=URI:https://gruene-kaufbeuren.de/termine/infostand-auf-dem-neug
 ablonzer-wochenmarkt-2/
LOCATION:Neugablonzer Wochenmarkt, Neuer Markt, Kaufbeuren
SUMMARY:Infostand auf dem Neugablonzer Wochenmarkt
DESCRIPTION;ALTREP="data:text/html,Bereit%2C%20weil%20Ihr%20es%20seid%21%
 0D%0A%0D%0AKommt%20vorbei%20und%20tauscht%20Euch%20mit%20uns%20%C3%BCber%
 20das%20GR%C3%9CNE%20Wahlprogramm%20und%20die%20aktuelle%20Stadtpolitik%2
 0aus.%0D%0A%0D%0AWir%20freuen%20uns%20auf%20Eure%20Anregungen%21":Bereit\
 , weil Ihr es seid!\n\nKommt vorbei und tauscht Euch mit uns über das GR
 ÜNE Wahlprogramm und die aktuelle Stadtpolitik aus.\n\nWir freuen uns au
 f Eure Anregungen!
CLASS:PUBLIC
DTSTART;TZID=Europe/Berlin:20210731T093000
DTEND;TZID=Europe/Berlin:20210731T113000
DTSTAMP:20260421T094533
END:VEVENT
END:VCALENDAR