BEGIN:VCALENDAR
VERSION:2.0
PRODID:gruene-kaufbeuren.de
METHOD:PUBLISH
BEGIN:VTIMEZONE
TZID:Europe/Berlin
X-LIC-LOCATION:Europe/Berlin
BEGIN:DAYLIGHT
TZOFFSETFROM:+0100
TZOFFSETTO:+0200
TZNAME:CEST
DTSTART:19700329T020000
RRULE:FREQ=YEARLY;INTERVAL=1;BYDAY=-1SU;BYMONTH=3
END:DAYLIGHT
BEGIN:STANDARD
TZOFFSETFROM:+0200
TZOFFSETTO:+0100
TZNAME:CET
DTSTART:19701025T030000
RRULE:FREQ=YEARLY;INTERVAL=1;BYDAY=-1SU;BYMONTH=10
END:STANDARD
END:VTIMEZONE
BEGIN:VEVENT
UID:70aba9327873382d43937c3199dea408@gruene-kaufbeuren.de
URL;VALUE=URI:https://gruene-kaufbeuren.de/termine/gruener-neujahrsempfan
 g-2020/
LOCATION:Kolping-Akademie, Adolph-Kolping-Str. 2a, Kaufbeuren
SUMMARY:Grüner Neujahrsempfang 2020
DESCRIPTION;ALTREP="data:text/html,%3Cdiv%20class%3D%22_63eu%20_63ev%22%3
 E%0D%0A%3Cdiv%20class%3D%22_63ew%22%20data-testid%3D%22event-permalink-de
 tails%22%3E%0D%0A%0D%0A%3Cstrong%3EWir%20laden%20herzlich%20ein%20zu%20un
 serem%20traditionellen%20NEUJAHRSEMPFANG%202020%20AM%20FREITAG%2C%2031.01
 .2020%20UM%2017%20UHR%20IM%20KOLPING%20BILDUNGSZENTRUM%2C%20KAUFBEUREN.%3
 C%2Fstrong%3E%0D%0A%0D%0ASto%C3%9Ft%20mit%20uns%20auf%20das%20neue%20Jahr
 %20an%2C%20freut%20Euch%20auf%20anregende%20Gespr%C3%A4che%20mit%20unsere
 n%20G%C3%A4sten%20aus%20Politik%20und%20Gesellschaft%2C%20und%20lernt%20u
 nsere%20Kandidatinnen%20und%20Kandidaten%20f%C3%BCr%20den%20Stadtrat%20un
 d%20unseren%20Oberb%C3%BCrgermeisterkandidaten%20%3Ca%20href%3D%22https%3
 A%2F%2Fwww.facebook.com%2Foliver.schill.stadtrat%2F%22%20target%3D%22_bla
 nk%22%20rel%3D%22noopener%20noreferrer%22%3EOliver%20Schill%3C%2Fa%3E%20p
 ers%C3%B6nlich%20kennen.%20Lasst%20uns%20kurz%20das%20vergangene%20Jahr%2
 02019%20verabschieden%20und%20mit%20Mut%20und%20Zuversicht%20in%20das%20J
 ahr%202020%20blicken.%20F%C3%BCr%20Musik%20und%20einen%20Imbiss%20ist%20g
 esorgt.%0D%0A%0D%0AGanz%20besonderes%20freuen%20wir%20uns%2C%20dass%20uns
 ere%20bayerische%20Landesvorsitzende%20EVA%20LETTENBAUER%2C%20MdL%2C%20un
 seren%20Neujahrsempfang%20mit%20einem%20Impulsreferat%20er%C3%B6ffnen%20w
 ird.%0D%0A%0D%0AEva%20Lettenbauer%20ist%20seit%20Oktober%202019%20neue%20
 Parteivorsitzende%20der%20Gr%C3%BCnen%20in%20Bayern%20und%20mit%2027%20Ja
 hren%20die%20j%C3%BCngste%2C%20die%20es%20bei%20den%20bayerischen%20Gr%C3
 %BCnen%20je%20gab.%0D%0A%0D%0AWir%20freuen%20uns%20auf%20euch%21%0D%0A%0D
 %0A%3C%2Fdiv%3E%0D%0A%3C%2Fdiv%3E":Wir laden herzlich ein zu unserem trad
 itionellen NEUJAHRSEMPFANG 2020 AM FREITAG\, 31.01.2020 UM 17 UHR IM KOLP
 ING BILDUNGSZENTRUM\, KAUFBEUREN.\n\nStoßt mit uns auf das neue Jahr an\
 , freut Euch auf anregende Gespräche mit unseren Gästen aus Politik und
  Gesellschaft\, und lernt unsere Kandidatinnen und Kandidaten für den St
 adtrat und unseren Oberbürgermeisterkandidaten Oliver Schill persönlich
  kennen. Lasst uns kurz das vergangene Jahr 2019 verabschieden und mit Mu
 t und Zuversicht in das Jahr 2020 blicken. Für Musik und einen Imbiss is
 t gesorgt.\n\nGanz besonderes freuen wir uns\, dass unsere bayerische Lan
 desvorsitzende EVA LETTENBAUER\, MdL\, unseren Neujahrsempfang mit einem 
 Impulsreferat eröffnen wird.\n\nEva Lettenbauer ist seit Oktober 2019 ne
 ue Parteivorsitzende der Grünen in Bayern und mit 27 Jahren die jüngste
 \, die es bei den bayerischen Grünen je gab.\n\nWir freuen uns auf euch!
CLASS:PUBLIC
DTSTART;TZID=Europe/Berlin:20200131T170000
DTEND;TZID=Europe/Berlin:20200131T180000
DTSTAMP:20260421T094533
END:VEVENT
END:VCALENDAR