BEGIN:VCALENDAR
VERSION:2.0
PRODID:gruene-kaufbeuren.de
METHOD:PUBLISH
BEGIN:VTIMEZONE
TZID:Europe/Berlin
X-LIC-LOCATION:Europe/Berlin
BEGIN:DAYLIGHT
TZOFFSETFROM:+0100
TZOFFSETTO:+0200
TZNAME:CEST
DTSTART:19700329T020000
RRULE:FREQ=YEARLY;INTERVAL=1;BYDAY=-1SU;BYMONTH=3
END:DAYLIGHT
BEGIN:STANDARD
TZOFFSETFROM:+0200
TZOFFSETTO:+0100
TZNAME:CET
DTSTART:19701025T030000
RRULE:FREQ=YEARLY;INTERVAL=1;BYDAY=-1SU;BYMONTH=10
END:STANDARD
END:VTIMEZONE
BEGIN:VEVENT
UID:4befda6a67b481a54d2eb6d3b4b32150@gruene-kaufbeuren.de
URL;VALUE=URI:https://gruene-kaufbeuren.de/termine/gruener-fruehjahrsempf
 ang-2024/
LOCATION:Stadtsaal Kaufbeuren, Augsburger Str. 2
SUMMARY:Grüner Frühjahrsempfang 2024
DESCRIPTION;ALTREP="data:text/html,%0A%3Ch1%20class%3D%22wp-block-heading
 %20has-large-font-size%22%20style%3D%22font-style%3Anormal%3Bfont-weight%
 3A600%22%3Emit%20%3Ca%20href%3D%22https%3A%2F%2Fwww.andiewoerle.eu%2F%22%
 3EAndrea%20W%C3%B6rle%3C%2Fa%3E%2C%20Spitzenkandidatin%20der%20Allg%C3%A4
 uer%20Gr%C3%BCnen%20f%C3%BCr%20Europa%3C%2Fh1%3E%0A%0A%0A%0A%3Cp%3E2024%2
 0ist%20das%20Jahr%20der%20Europawahl.%20Und%20die%20GR%C3%9CNEN%20Bayern%
 20gehen%20mit%20einer%20Spitzenkandidatin%20ins%20Rennen%3A%20%3Ca%20href
 %3D%22https%3A%2F%2Fwww.andiewoerle.eu%2F%22%3EAndrea%20W%C3%B6rle%3C%2Fa
 %3E%20aus%20dem%20Ostallg%C3%A4u.%20Auf%20unserem%20Fr%C3%BChjahrsempfang
 %20pr%C3%A4sentiert%20sich%20Andie%20W%C3%B6rle%20und%20stellt%20ihren%20
 5-Punkte-Plan%3Cbr%20%2F%3E%3Cstrong%3E%E2%80%9EDas%20Beste%20f%C3%BCr%20
 Bayern%20mit%20Europa%E2%80%9C%20%3C%2Fstrong%3Evor.%3C%2Fp%3E%0A%0A%0A%0
 A%3Cp%3EWir%20freuen%20uns%20auf%20die%20%C3%BCberzeugte%20Europ%C3%A4eri
 n%20und%20schw%C3%A4bische%20Kandidatin.%20Sie%20erreichte%20mit%20dem%20
 16.%20Platz%20auf%20der%20Gr%C3%BCnen%20Liste%20einen%20aussichtsreichen%
 20Spitzenplatz.%3C%2Fp%3E%0A%0A%0A%0A%3Cp%3E%3Cstrong%3EAndrea%20W%C3%B6r
 le%20%3C%2Fstrong%3E%3Cstrong%3Ehat%3C%2Fstrong%3E%3Cstrong%3E%20%3C%2Fst
 rong%3E%3Cstrong%3Egro%C3%9Fe%3C%2Fstrong%3E%3Cstrong%3E%20Chancen%20auf%
 20ein%20Mandat%20%3C%2Fstrong%3E%3Cstrong%3Eim%20Europ%C3%A4ischen%20Parl
 ament.%20%3C%2Fstrong%3E%3Cstrong%3EDamit%20w%C3%BCrde%20sie%20%3C%2Fstro
 ng%3E%3Cstrong%3Eunserer%20allseits%20%3C%2Fstrong%3E%3Cstrong%3Ebekannte
 n%20Barbara%20Lochbihler%2C%20MdEP%20a.D.%2C%20aus%20Ronsberg%20%3C%2Fstr
 ong%3E%3Cstrong%3Enach%3C%2Fstrong%3E%3Cstrong%3Efolgen.%3C%2Fstrong%3E%3
 C%2Fp%3E%0A%0A%0A%0A%3Cp%3E%3Cstrong%3E%3Cbr%20%2F%3E%3C%2Fstrong%3E%3Cst
 rong%3EKommt%20vorbei%20und%20lernt%20Andie%20und%20andere%20Politiker%2A
 innen%2C%20B%C3%BCrger%20un%3C%2Fstrong%3E%3Cstrong%3Ed%3C%2Fstrong%3E%3C
 strong%3E%20B%C3%BCrgerinnen%20kennen.%3C%2Fstrong%3E%3C%2Fp%3E%0A%0A%0A%
 0A%3Cp%3EWir%20laden%20ein%20zu%20Gespr%C3%A4ch%2C%20Austausch%2C%20Getr%
 C3%A4nk%20und%20Fingerfood%20ein.%20Es%20spielt%20das%20Dad%20Duo%20mit%2
 0Jakob%20und%20Leo%20Link.%20Wir%20bitten%20um%20Anmeldung%20unter%3A%20%
 3Ca%20href%3D%22mailto%3Akontakt%40gruene-kaufbeuren.de%22%20target%3D%22
 _blank%22%20rel%3D%22noreferrer%20noopener%22%3Ekontakt%40gruene-kaufbeur
 en.de%3C%2Fa%3E%20%3C%2Fp%3E%0A%0A%0A%0A%3Cp%3E%3Cem%3EWir%20behalten%20u
 ns%20vor%20von%20unserem%20Hausrecht%20Gebrauch%20zu%20machen%20und%20Per
 sonen%2C%20die%20rechtsextremen%20Parteien%20oder%20Organisationen%20ange
 h%C3%B6ren%2C%20der%20rechtsextremen%20Szene%20zuzuordnen%20sind%20oder%2
 0bereits%20in%20der%20Vergangenheit%20durch%20rassistische%2C%20nationali
 stische%2C%20antisemitische%20oder%20sonstige%20menschenverachtende%20%C3
 %84u%C3%9Ferungen%20in%20Erscheinung%20getreten%20sind%2C%20den%20Zutritt
 %20zur%20Veranstaltung%20zu%20verwehren%20oder%20von%20dieser%20auszuschl
 ie%C3%9Fen.%3C%2Fem%3E%3C%2Fp%3E%0A%0A%0A%0A%3Cp%3E%3C%2Fp%3E%0A":mit And
 rea Wörle\, Spitzenkandidatin der Allgäuer Grünen für Europa\n\n2024 
 ist das Jahr der Europawahl. Und die GRÜNEN Bayern gehen mit einer Spitz
 enkandidatin ins Rennen: Andrea Wörle aus dem Ostallgäu. Auf unserem Fr
 ühjahrsempfang präsentiert sich Andie Wörle und stellt ihren 5-Punkte-
 Plan„Das Beste für Bayern mit Europa“ vor.\n\nWir freuen uns auf die
  überzeugte Europäerin und schwäbische Kandidatin. Sie erreichte mit d
 em 16. Platz auf der Grünen Liste einen aussichtsreichen Spitzenplatz.\n
 \nAndrea Wörle hat große Chancen auf ein Mandat im Europäischen Parlam
 ent. Damit würde sie unserer allseits bekannten Barbara Lochbihler\, MdE
 P a.D.\, aus Ronsberg nachfolgen.\n\nKommt vorbei und lernt Andie und and
 ere Politiker*innen\, Bürger und Bürgerinnen kennen.\n\nWir laden ein z
 u Gespräch\, Austausch\, Getränk und Fingerfood ein. Es spielt das Dad 
 Duo mit Jakob und Leo Link. Wir bitten um Anmeldung unter: kontakt@gruene
 -kaufbeuren.de\n\nWir behalten uns vor von unserem Hausrecht Gebrauch zu 
 machen und Personen\, die rechtsextremen Parteien oder Organisationen ang
 ehören\, der rechtsextremen Szene zuzuordnen sind oder bereits in der Ve
 rgangenheit durch rassistische\, nationalistische\, antisemitische oder s
 onstige menschenverachtende Äußerungen in Erscheinung getreten sind\, d
 en Zutritt zur Veranstaltung zu verwehren oder von dieser auszuschließen
 .
CLASS:PUBLIC
DTSTART;TZID=Europe/Berlin:20240315T170000
DTEND;TZID=Europe/Berlin:20240315T180000
DTSTAMP:20260421T094541
END:VEVENT
END:VCALENDAR