BEGIN:VCALENDAR
VERSION:2.0
PRODID:gruene-kaufbeuren.de
METHOD:PUBLISH
BEGIN:VTIMEZONE
TZID:Europe/Berlin
X-LIC-LOCATION:Europe/Berlin
BEGIN:DAYLIGHT
TZOFFSETFROM:+0100
TZOFFSETTO:+0200
TZNAME:CEST
DTSTART:19700329T020000
RRULE:FREQ=YEARLY;INTERVAL=1;BYDAY=-1SU;BYMONTH=3
END:DAYLIGHT
BEGIN:STANDARD
TZOFFSETFROM:+0200
TZOFFSETTO:+0100
TZNAME:CET
DTSTART:19701025T030000
RRULE:FREQ=YEARLY;INTERVAL=1;BYDAY=-1SU;BYMONTH=10
END:STANDARD
END:VTIMEZONE
BEGIN:VEVENT
UID:0479c4880a3030519b7a3f9eae21d8d5@gruene-kaufbeuren.de
URL;VALUE=URI:https://gruene-kaufbeuren.de/termine/gruener-empfang-mit-ka
 tharina-schulze-und-maria-wissmiller/
LOCATION:ikigai, Schönblick 3, Kaufbeuren
SUMMARY:Grüner Empfang mit Katharina Schulze und Maria Wißmiller
DESCRIPTION;ALTREP="data:text/html,%0A%3Cp%3ESAVE%20THE%20DATE%21%3C%2Fp%
 3E%0A%0A%0A%0A%3Cp%3EGemeinsam%20m%C3%B6chten%20wir%20das%20neue%20Jahr%2
 0begr%C3%BC%C3%9Fen%20und%20auf%20die%20Chancen%20und%20Herausforderungen
 %20im%20aktuellen%20Bundestagswahlkampf%20blicken.%20Es%20erwartet%20Euch
 %20ein%20inspirierender%20Nachmittag%20mit%20spannenden%20Gespr%C3%A4chen
 %20und%20einem%20interessanten%20Programm.%3C%2Fp%3E%0A%0A%0A%0A%3Cp%3EWi
 r%20freuen%20uns%20darauf%2C%20mit%20Euch%20gemeinsam%20bei%20guter%20Mus
 ik%20und%20mit%20leckerem%20Essen%20ins%20Gespr%C3%A4ch%20zu%20kommen%21%
 3C%2Fp%3E%0A":SAVE THE DATE!\n\nGemeinsam möchten wir das neue Jahr begr
 üßen und auf die Chancen und Herausforderungen im aktuellen Bundestagsw
 ahlkampf blicken. Es erwartet Euch ein inspirierender Nachmittag mit span
 nenden Gesprächen und einem interessanten Programm.\n\nWir freuen uns da
 rauf\, mit Euch gemeinsam bei guter Musik und mit leckerem Essen ins Gesp
 räch zu kommen!
CLASS:PUBLIC
DTSTART;TZID=Europe/Berlin:20250214T150000
DTEND;TZID=Europe/Berlin:20250214T164500
DTSTAMP:20260421T100156
END:VEVENT
END:VCALENDAR