BEGIN:VCALENDAR
VERSION:2.0
PRODID:gruene-kaufbeuren.de
METHOD:PUBLISH
BEGIN:VTIMEZONE
TZID:Europe/Berlin
X-LIC-LOCATION:Europe/Berlin
BEGIN:DAYLIGHT
TZOFFSETFROM:+0100
TZOFFSETTO:+0200
TZNAME:CEST
DTSTART:19700329T020000
RRULE:FREQ=YEARLY;INTERVAL=1;BYDAY=-1SU;BYMONTH=3
END:DAYLIGHT
BEGIN:STANDARD
TZOFFSETFROM:+0200
TZOFFSETTO:+0100
TZNAME:CET
DTSTART:19701025T030000
RRULE:FREQ=YEARLY;INTERVAL=1;BYDAY=-1SU;BYMONTH=10
END:STANDARD
END:VTIMEZONE
BEGIN:VEVENT
UID:f1a2dff7437935cd617a95a84e897d2c@gruene-kaufbeuren.de
URL;VALUE=URI:https://gruene-kaufbeuren.de/termine/demo-gegen-das-geplant
 e-leitkult-gesetz/
LOCATION:DGB-Haus Schwanthalerstr. 64, München
SUMMARY:Demo gegen das geplante Leitkult-Gesetz
DESCRIPTION;ALTREP="data:text/html,Mit%20einem%20Leitkult-Gesetz%20versuc
 ht%20die%20CSU%2C%20allen%20Menschen%20in%20Bayern%20vorzuschreiben%2C%20
 wie%20sie%20leben%20sollen.%20Unklar%20bleibt%2C%20woraus%20dieser%20Leit
 kult%20bestehen%20soll.%20Eine%20allgemeing%C3%BCltige%20Definition%20kan
 n%20es%20in%20einer%20vielf%C3%A4ltigen%20und%20pluralistischen%20Gesells
 chaft%20gar%20nicht%20geben.%20Deswegen%20lehnen%20wir%20den%20Gesetzentw
 urf%2C%20den%20die%20CSU%20zynisch%20%E2%80%9EIntegrationsgesetz%E2%80%9C
 %20nennt%2C%20entschieden%20ab.%0D%0A%0D%0ADem%20B%C3%BCndnis%20gegen%20d
 as%20bayerische%20Ausgrenzungsgesetz%20geh%C3%B6ren%20neben%20uns%20Gr%C3
 %BCnen%20z.B.%20auch%20der%20Ausl%C3%A4nderbeirat%20M%C3%BCnchen%2C%20der
 %20Deutsche%20Mieterbund%20%28Bayern%29%20und%20die%20Gewerkschaft%20Erzi
 ehung%20und%20Wissenschaft%20an.%0D%0A%0D%0ADer%20Demonstrationszug%20geh
 t%20durch%20die%20Innenstadt%20%28Schwanthaler%20Str.%2C%20Sonnenstr.%2C%
 20Sendlinger%20Tor%2C%20Oberanger%2C%20Residenzstr.%29%20bis%20zum%20Odeo
 nsplatz.%20Dort%20findet%20ab%2013%3A30%20Uhr%20die%20Abschlusskundgebung
 %20statt.%0D%0A%0D%0AEs%20reden%20unter%20anderem%3A%0D%0A%3Cul%3E%0D%0A%
 20%09%3Cli%3EMargarete%20Bause%2C%20Fraktionsvorsitzende%20von%20B%C3%BCn
 dnis%2090%2FDie%20Gr%C3%BCnen%3C%2Fli%3E%0D%0A%20%09%3Cli%3EErnst%20Grube
 %20%28Vereinigung%20der%20Verfolgten%20des%20Naziregimes%29%3C%2Fli%3E%0D
 %0A%20%09%3Cli%3EMitra%20Sharifi%20%28Vorsitzende%20der%20AGABY%29%20sowi
 e%3C%2Fli%3E%0D%0A%20%09%3Cli%3EAnton%20Salzbrunn%20%28GEW%20Bayern%29.%3
 C%2Fli%3E%0D%0A%3C%2Ful%3E%0D%0AF%C3%BCr%20organisatorische%20R%C3%BCckfr
 agen%20zur%20Demonstration%20wenden%20Sie%20sich%20bitte%20an%20Hedwig%20
 Krimmer%2C%20Arbeitskreis%20Aktiv%20gegen%20rechts%20in%20ver.di%20M%C3%B
 Cnchen%2C%20%3Ca%20href%3D%22mailto%3Ahedwig.krimmer%40verdi.de%22%3Ehedw
 ig.krimmer%40verdi.de%3C%2Fa%3E%2C%20089%2F59977-1101.":Mit einem Leitkul
 t-Gesetz versucht die CSU\, allen Menschen in Bayern vorzuschreiben\, wie
  sie leben sollen. Unklar bleibt\, woraus dieser Leitkult bestehen soll. 
 Eine allgemeingültige Definition kann es in einer vielfältigen und plur
 alistischen Gesellschaft gar nicht geben. Deswegen lehnen wir den Gesetze
 ntwurf\, den die CSU zynisch „Integrationsgesetz“ nennt\, entschieden
  ab.\n\nDem Bündnis gegen das bayerische Ausgrenzungsgesetz gehören neb
 en uns Grünen z.B. auch der Ausländerbeirat München\, der Deutsche Mie
 terbund (Bayern) und die Gewerkschaft Erziehung und Wissenschaft an.\n\nD
 er Demonstrationszug geht durch die Innenstadt (Schwanthaler Str.\, Sonne
 nstr.\, Sendlinger Tor\, Oberanger\, Residenzstr.) bis zum Odeonsplatz. D
 ort findet ab 13:30 Uhr die Abschlusskundgebung statt.\n\nEs reden unter 
 anderem:\n\n 	Margarete Bause\, Fraktionsvorsitzende von Bündnis 90/Die 
 Grünen\n\n 	Ernst Grube (Vereinigung der Verfolgten des Naziregimes)\n\n
  	Mitra Sharifi (Vorsitzende der AGABY) sowie\n\n 	Anton Salzbrunn (GEW B
 ayern).\n\nFür organisatorische Rückfragen zur Demonstration wenden Sie
  sich bitte an Hedwig Krimmer\, Arbeitskreis Aktiv gegen rechts in ver.di
  München\, hedwig.krimmer@verdi.de\, 089/59977-1101.
CLASS:PUBLIC
DTSTART;TZID=Europe/Berlin:20161022T120000
DTEND;TZID=Europe/Berlin:20161022T130000
DTSTAMP:20260421T095556
END:VEVENT
END:VCALENDAR